BEGIN:VCALENDAR
VERSION:2.0
PRODID:-//DIGITAL FACTORY//EVENTS MAKER V1.6.14//EN
CALSCALE:GREGORIAN
BEGIN:VEVENT
DTEND:20210811
UID:69e78f38d290b
DTSTAMP:20260421T145240Z
LOCATION:Club de tennis Municipal de Cayeux Rue des Tennis, Cayeux-sur-Mer, 80410, 80410
DESCRIPTION:La finale du tournoi open de tennis se déroulera le jeudi 12 août selon les horaires suivants    14 h Finale dames    15 h 30 Finale Messieurs    17 h 30 Remise des prix suivie du pot de l'amitié.   Pour mieux connaitre le club de tennis de Cayeux-sur-Mer\, ambiance\, un jour de Tournoi multichance :       &nbsp\;    &nbsp\;    &nbsp\;
URL;VALUE=URI:https://www.cayeux-sur-mer.fr/evenements-3/évènements/tennis-finale-du-tournoi-open
SUMMARY:Tennis : Finale du Tournoi Open
DTSTART:20210811
END:VEVENT
END:VCALENDAR
