BEGIN:VCALENDAR
VERSION:2.0
PRODID:-//DIGITAL FACTORY//EVENTS MAKER V1.6.14//EN
CALSCALE:GREGORIAN
BEGIN:VEVENT
DTEND:20190628
UID:69e5206115cd3
DTSTAMP:20260419T183513Z
LOCATION:Front de mer boulevard Sizaire, Cayeux-sur-Mer, France, 80140, FR
DESCRIPTION:La station SNSM de Cayeux-sur-Mer organise sa journée nationale de collecte le 29 juin 2019.    Rendez-vous à partir de 10h sur la plage de Cayeux\, entrée principale.
URL;VALUE=URI:https://www.cayeux-sur-mer.fr/evenements-3/évènements/soutenir-les-sauveteurs-en-mer
SUMMARY:SNSM : Soutenir les sauveteurs en mer
DTSTART:20190628
END:VEVENT
END:VCALENDAR
