BEGIN:VCALENDAR
VERSION:2.0
PRODID:-//DIGITAL FACTORY//EVENTS MAKER V1.6.14//EN
CALSCALE:GREGORIAN
BEGIN:VEVENT
DTEND:20180808
UID:69e7602b9addb
DTSTAMP:20260421T113155Z
LOCATION:Front de mer boulevard Sizaire, Cayeux-sur-Mer, France, 80140, FR
DESCRIPTION:
URL;VALUE=URI:https://www.cayeux-sur-mer.fr/evenements-3/évènements/soiree-dansante-disco-en-plein-air
SUMMARY:💃 Soirée dansante Disco en plein air
DTSTART:20180808
END:VEVENT
END:VCALENDAR
