BEGIN:VCALENDAR
VERSION:2.0
PRODID:-//DIGITAL FACTORY//EVENTS MAKER V1.6.14//EN
CALSCALE:GREGORIAN
BEGIN:VEVENT
DTEND:20190810
UID:69e4f77d512a4
DTSTAMP:20260419T154045Z
LOCATION:Front de mer boulevard Sizaire, Cayeux-sur-Mer, France, 80140, FR
DESCRIPTION:
URL;VALUE=URI:https://www.cayeux-sur-mer.fr/evenements-3/évènements/salon-du-livre-et-des-arts
SUMMARY:Salon du livre et des arts
DTSTART:20190810
END:VEVENT
END:VCALENDAR
