BEGIN:VCALENDAR
VERSION:2.0
PRODID:-//DIGITAL FACTORY//EVENTS MAKER V1.6.14//EN
CALSCALE:GREGORIAN
BEGIN:VEVENT
DTEND:20230709T180000Z
UID:69e4d0d317f7f
DTSTAMP:20260419T125547Z
DESCRIPTION:Le Salon des migrateurs de Cayeux-sur-Mer est le plus important événement cynégétique exclusivement consacré au gibier migrateur.  Foire aux appelants\, concours de siffleux\, concours de la meilleure chanteuse\, présentation de chiens\, ball-trap\, concours d’appeaux\, championnat du monde de lancer de blettes... Le Salon des migrateurs\, piloté par l’organisateur d’événements Versicolor attire chaque année entre 10 et 20 000 visiteurs.  Il se déroule sur un terrain situé le long de la D3\, route de Brighton\, de 9 h à 19 h  Infos et contact :  www.salondesmigrateurs.com  01 34 78 22 22
URL;VALUE=URI:https://www.cayeux-sur-mer.fr/evenements-3/évènements/salon-des-migrateurs-3
SUMMARY:Salon des migrateurs
DTSTART:20230708T080000Z
END:VEVENT
END:VCALENDAR
