BEGIN:VCALENDAR
VERSION:2.0
PRODID:-//DIGITAL FACTORY//EVENTS MAKER V1.6.14//EN
CALSCALE:GREGORIAN
BEGIN:VEVENT
DTEND:20171217T180000Z
UID:69e5e38b0e792
DTSTAMP:20260420T082755Z
DESCRIPTION:Le marché de noël organisé par Chés Piots de Cayeux se déroulera tout au long du week-end des 16 et 17 décembre 2017.    Inscriptions pour les exposants\, renseignements divers et réservations pour le repas du samedi soir : rendez-vous sur la page Facebook de l'association : https://www.facebook.com/ChesPiotsDeCayeux/    A voir ou à revoir\, le reportage dans les allées du marché de noël\, édition 2016 :
URL;VALUE=URI:https://www.cayeux-sur-mer.fr/evenements-3/évènements/marche-de-noel-2
SUMMARY:Marché de noël
DTSTART:20171216T083000Z
END:VEVENT
END:VCALENDAR
