BEGIN:VCALENDAR
VERSION:2.0
PRODID:-//DIGITAL FACTORY//EVENTS MAKER V1.6.14//EN
CALSCALE:GREGORIAN
BEGIN:VEVENT
DTEND:20191231
UID:69e4f948e4211
DTSTAMP:20260419T154824Z
LOCATION:Front de mer boulevard Sizaire, Cayeux-sur-Mer, France, 80140, FR
DESCRIPTION:
URL;VALUE=URI:https://www.cayeux-sur-mer.fr/evenements-3/évènements/longe-cote-de-lan
SUMMARY:Le bain du nouvel an du club de longe-côte
DTSTART:20191231
END:VEVENT
END:VCALENDAR
