BEGIN:VCALENDAR
VERSION:2.0
PRODID:-//DIGITAL FACTORY//EVENTS MAKER V1.6.14//EN
CALSCALE:GREGORIAN
BEGIN:VEVENT
DTEND:20180317T110000Z
UID:69e4dafdd606b
DTSTAMP:20260419T133909Z
LOCATION:Benoît Champy boulevard du Général Sizaire, Cayeux-sur-Mer
DESCRIPTION:L'opération Hauts-de-France Propres\, qui consiste à rassembler le plus grand nombre de bénévoles pour nettoyer la nature ensemble se déroulera tout au long du week-end des 16\, 17 et 18 mars 2018. A Cayeux-sur-mer\, le rassemblement est organisé sur la journée du samedi 17 mars.  Rendez-vous à 9h30\, sur le parking derrière l'abri du canot de sauvetage Benoît Champy.  Hauts-de-France Propres-Affichette  Retour en vidéo sur l'opération Hauts-deFrance Propres de l'an passé\, en avril 2017.
URL;VALUE=URI:https://www.cayeux-sur-mer.fr/evenements-3/évènements/hauts-de-france-propres-nettoyons-littoral
SUMMARY:Hauts-de-France propres : nettoyons le littoral
DTSTART:20180317T083000Z
END:VEVENT
END:VCALENDAR
