BEGIN:VCALENDAR
VERSION:2.0
PRODID:-//DIGITAL FACTORY//EVENTS MAKER V1.6.14//EN
CALSCALE:GREGORIAN
BEGIN:VEVENT
DTEND:20190223
UID:69e52080a1cb6
DTSTAMP:20260419T183544Z
LOCATION:Front de mer boulevard Sizaire, Cayeux-sur-Mer, France, 80140, FR
DESCRIPTION:Coefficient 113\, jeudi 21 février 2019 en milieu de journée\, et 112\, dès mercredi 20 ... En cette fin de semaine de vacances scolaires\, la mer montera bien plus haut qu'à l'ordinaire. Les prévisions météo nous laissent espérer de belles séquences d'ensoleillement. Alors\, ne manquez pas l'occasion d'une balade au grand air à Cayeux !   Les grandes marées offrent l'occasion de découvrir ou redécouvrir les paysages cayolais sous un autre angle. A marée basse\, les immenses étendues de sable du Hourdel qui sont plus découvertes encore qu'à l'accoutumée. A marée haute\, le blockhaus est totalement entouré d'eau\, les vagues viennent lécher les plus hauts renforts de la digue de la Gaîté\, les huttes flottantes qui sortent de leur cachette.      [caption id="attachment_8162" align="aligncenter" width="2000"] Blockhaus du Hourdel[/caption]    [caption id="attachment_8163" align="aligncenter" width="2000"] Le Hourdel\, grande marée d'équinoxe-Septembre 2016[/caption]  N'oubliez pas\, tout de même\, les consignes de vigilance et de prudence : consultez les horaires des marées (en page d'accueil de ce site pour la marée du jour ou sur le site du Shom\, le Service hydrographique national)\, ne vous éloignez pas de la côte à marée montante.      [caption id="attachment_8168" align="aligncenter" width="750"] Source : Premar Manche[/caption]  Les grandes marées\, c'est aussi l'occasion de s'intéresser à la laisse de mer dont les dépôts sont plus riches en bois flottés et autres matières organiques lorsque la mer monte haut et que les vagues sont fortes :    ﻿  Les grandes marées font aussi bien souvent le bonheur des pêcheurs à pied\, ceux qui poussent devant eux leur filet à la recherche des petites crevettes grises de la baie :  ﻿    &nbsp\;
URL;VALUE=URI:https://www.cayeux-sur-mer.fr/evenements-3/évènements/grandes-marees
SUMMARY:🧜‍♂️ Grandes marées
DTSTART:20190218
END:VEVENT
END:VCALENDAR
