BEGIN:VCALENDAR
VERSION:2.0
PRODID:-//DIGITAL FACTORY//EVENTS MAKER V1.6.14//EN
CALSCALE:GREGORIAN
BEGIN:VEVENT
DTEND:20190807
UID:69e5202eb6787
DTSTAMP:20260419T183422Z
LOCATION:Front de mer boulevard Sizaire, Cayeux-sur-Mer, France, 80140, FR
DESCRIPTION:
URL;VALUE=URI:https://www.cayeux-sur-mer.fr/evenements-3/évènements/futsal-tournee-dete-2019
SUMMARY:Futsal : tournée d&#039\;été 2019
DTSTART:20190807
END:VEVENT
END:VCALENDAR
