BEGIN:VCALENDAR
VERSION:2.0
PRODID:-//DIGITAL FACTORY//EVENTS MAKER V1.6.14//EN
CALSCALE:GREGORIAN
BEGIN:VEVENT
DTEND:20180622
UID:69e75fd2eef22
DTSTAMP:20260421T113026Z
LOCATION:Centre-ville cayeux-sur-Mer, 80410
DESCRIPTION:De nombreux points de rendez-vous pour la fête de la musique à Cayeux-sur-mer :  Jeudi 21 juin :   18 h Apéro concert avec Robert Gillard et Benjamin Dufossé à la Terrasse du restaurant Les Galets Bleus.    18h-23h30 Animation musicale à la Cave du Houblon    19h30 Concert de la chorale Mouettes et Chansons à la Chapelle des marins  Et la fête se poursuit le 22 juin :  18h30 Animation musicale avec Robert Gillard et Elisa Decontet  à la terrasse de l'Embuscade.    19h30 Texas Country Show au croisement de la rue du Maréchal Foch et de l'avenue Paul Doumer    21h-1h Podium avec DJ à l'entrée principale de la plage    &nbsp\;  Samedi 23 juin :   Concert de l'harmonie des Amis de la Musique à 18 h à la chapelle des marins    A voir ou à revoir l'édition 2017 de la fête de la musique à Cayeux-sur-mer :    &nbsp\;
URL;VALUE=URI:https://www.cayeux-sur-mer.fr/evenements-3/évènements/fete-de-musique
SUMMARY:🎷Fête de la musique
DTSTART:20180620
END:VEVENT
END:VCALENDAR
