BEGIN:VCALENDAR
VERSION:2.0
PRODID:-//DIGITAL FACTORY//EVENTS MAKER V1.6.14//EN
CALSCALE:GREGORIAN
BEGIN:VEVENT
DTEND:20210618
UID:69e78baf4ee2b
DTSTAMP:20260421T143735Z
LOCATION:Club de tennis Municipal de Cayeux Rue des Tennis, Cayeux-sur-Mer, 80410, 80410
DESCRIPTION:
URL;VALUE=URI:https://www.cayeux-sur-mer.fr/evenements-3/évènements/fete-de-lecole-de-tennis-2
SUMMARY:Fête de l&#039\;école de tennis
DTSTART:20210618
END:VEVENT
END:VCALENDAR
