BEGIN:VCALENDAR
VERSION:2.0
PRODID:-//DIGITAL FACTORY//EVENTS MAKER V1.6.14//EN
CALSCALE:GREGORIAN
BEGIN:VEVENT
DTEND:20190803
UID:69e50e42217b8
DTSTAMP:20260419T171754Z
LOCATION:Front de mer boulevard Sizaire, Cayeux-sur-Mer, France, 80140, FR
DESCRIPTION:La fête de la mer se déroulera le 4 août 2019.    [caption id="attachment_9017" align="aligncenter" width="3508"] Fête de la mer 2019 Cayeux-sur-Mer-Baie de Somme[/caption]    &nbsp\;  En attendant\, replongez-vous dans l'ambiance :
URL;VALUE=URI:https://www.cayeux-sur-mer.fr/evenements-3/évènements/fete-de-la-mer-2019
SUMMARY:Fête de la mer 2019
DTSTART:20190803
END:VEVENT
END:VCALENDAR
