BEGIN:VCALENDAR
VERSION:2.0
PRODID:-//DIGITAL FACTORY//EVENTS MAKER V1.6.14//EN
CALSCALE:GREGORIAN
BEGIN:VEVENT
DTEND:20200808T225900Z
UID:69e4f5fac7bf4
DTSTAMP:20260419T153418Z
LOCATION:Front de mer boulevard Sizaire, Cayeux-sur-Mer, France, 80140, FR
DESCRIPTION:Rendez-vous samedi 8 août 2020 à partir de 17 h à l'entrée de plage. Les festivités débuteront par un concours d'élégance.    La fête se déroule à la porte des cabines\, sur le front de mer\, d'un bout à l'autre du chemin de planches.    Attention\, cette année\, conformément à l'arrêté municipal du 4 août 2020\, le port du masque est obligatoire pour toutes les manifestations estivales inscrites au calendrier d'animations de la ville\, y compris en plein air.  Pour se mettre ou se remettre dans l'ambiance\, le Dîner Croisière\, édition 2019 :
URL;VALUE=URI:https://www.cayeux-sur-mer.fr/evenements-3/évènements/diner-croisiere-2
SUMMARY:Dîner croisière
DTSTART:20200808T173000Z
END:VEVENT
END:VCALENDAR
