BEGIN:VCALENDAR
VERSION:2.0
PRODID:-//DIGITAL FACTORY//EVENTS MAKER V1.6.14//EN
CALSCALE:GREGORIAN
BEGIN:VEVENT
DTEND:20190706
UID:69e51fc09f012
DTSTAMP:20260419T183232Z
LOCATION:Front de mer boulevard Sizaire, Cayeux-sur-Mer, France, 80140, FR
DESCRIPTION:Dimanche matin 7 juillet à 10h30\, la mer sera tout à fait basse\, le sable largement découvert. Les conditions seront idéales pour le premier grand concours de châteaux de sable de l'été à Cayeux-sur-Mer.        Pour tous les bâtisseurs en herbe et constructeurs de l'éphémère\, rendez-vous à l'entrée principale de la plage avec seaux\, pelles\, râteaux et menus éléments de décoration.        [caption id="attachment_6914" align="aligncenter" width="2000"] Vladimir en action de pêche[/caption]
URL;VALUE=URI:https://www.cayeux-sur-mer.fr/evenements-3/évènements/concours-de-chateaux-de-sable-3
SUMMARY:Concours de châteaux de sable
DTSTART:20190706
END:VEVENT
END:VCALENDAR
