BEGIN:VCALENDAR
VERSION:2.0
PRODID:-//DIGITAL FACTORY//EVENTS MAKER V1.6.14//EN
CALSCALE:GREGORIAN
BEGIN:VEVENT
DTEND:20190629
UID:69e5dfa154045
DTSTAMP:20260420T081113Z
LOCATION:Église saint-Pierre 159 rue du maréchal foch, cayeux sur mer, FR
DESCRIPTION:
URL;VALUE=URI:https://www.cayeux-sur-mer.fr/evenements-3/évènements/concert-du-choeur-feminin-yveline-paris
SUMMARY:Concert du choeur féminin Yveline Paris
DTSTART:20190629
END:VEVENT
END:VCALENDAR
