BEGIN:VCALENDAR
VERSION:2.0
PRODID:-//DIGITAL FACTORY//EVENTS MAKER V1.6.14//EN
CALSCALE:GREGORIAN
BEGIN:VEVENT
DTEND:20180805
UID:69e760de62d19
DTSTAMP:20260421T113454Z
LOCATION:Front de mer boulevard Sizaire, Cayeux-sur-Mer, France, 80140, FR
DESCRIPTION:Du Crotoy à Mers-les-Bains\, en passant par Cayeux-sur-mer\, Chés Wèpes est LE Festival de la langue picarde. Des concerts\, du théâtre\, des contes et des légendes\, des jeux de plage et des séances d'initiation au maniement des marionnettes à fil...  Cayeux\, plusieurs rendez-vous sont programmés :  Mardi 24 juillet Place Courbet\, de 14h à 18h\, jeux traditionnels animés par la Ligue de Picardie du jeu d'assiette.   Mardi 24 juillet à 20h30 à la salle des fêtes\, Entre souffle et paroles\, spectacle en picard proposé par la compagnie Amuséon et le conteur Jean-Marie François.   Dimanche 29 juillet à 18h à la chapelle du Hourdel Soirée contes\, par Jean-Marie François.  Lundi 6 août de 15h à 16h\, à l'entrée principale de plage\, jeux de plage pour découvrir le picard et initiation à la marionnette picarde.   Un festival organisé par l'Agence régionale de la langue picarde.
URL;VALUE=URI:https://www.cayeux-sur-mer.fr/evenements-3/évènements/ches-wepes-chfestival-picard
SUMMARY:🐝 Chés Wèpes\, ch&#039\;festival picard
DTSTART:20180805
END:VEVENT
END:VCALENDAR
