BEGIN:VCALENDAR
VERSION:2.0
PRODID:-//DIGITAL FACTORY//EVENTS MAKER V1.6.14//EN
CALSCALE:GREGORIAN
BEGIN:VEVENT
DTEND:20260319T114500Z
UID:69e7354f2823a
DTSTAMP:20260421T082903Z
DESCRIPTION:
URL;VALUE=URI:https://www.cayeux-sur-mer.fr/evenements-3/évènements/ceremonie-11
SUMMARY:Cérémonie
DTSTART:20260319T104500Z
END:VEVENT
END:VCALENDAR
