BEGIN:VCALENDAR
VERSION:2.0
PRODID:-//DIGITAL FACTORY//EVENTS MAKER V1.6.14//EN
CALSCALE:GREGORIAN
BEGIN:VEVENT
DTEND:20210724T150000Z
UID:69e4dddc57b18
DTSTAMP:20260419T135124Z
LOCATION:Front de mer boulevard Sizaire, Cayeux-sur-Mer, France, 80140, FR
DESCRIPTION:L'association SOS laisse de mer propose de venir créer sur la plage de Cayeux-sur-Mer.     Le public découvrira comment les sacs plastiques s’impriment en de sublimes compositions !  Les participants peuvent amener des sacs plastiques trouvés chez eux ...  Mercredi 21 juillet - 14h à 18h : atelier création impression plastique  Samedi 24 juillet - 14h à 16h : nettoyage de plage  16h30 à 18h30 : atelier création impression plastique  -  Gratuit et sans réservation\, pour adultes et enfants à partir de 7 ans. Renseignements : 06 07 79 01 87              &nbsp\;    Adresse : rendez-vous boulevard Sizaire\, à côté des terrains de basket\, sous un barnum blanc\, à droite de l’entrée principale de la plage.    &nbsp\;    À bientôt ! Venez nombreux !
URL;VALUE=URI:https://www.cayeux-sur-mer.fr/evenements-3/évènements/ateliers-creatifs-sur-la-plage
SUMMARY:Ateliers créatifs sur la plage
DTSTART:20210724T130000Z
END:VEVENT
END:VCALENDAR
